BEGIN:VCALENDAR
VERSION:2.0
PRODID:-//Cieciórski Akro Kids - ECPv6.15.20//NONSGML v1.0//EN
CALSCALE:GREGORIAN
METHOD:PUBLISH
X-WR-CALNAME:Cieciórski Akro Kids
X-ORIGINAL-URL:https://sad-khorana.212-132-127-123.plesk.page
X-WR-CALDESC:Wydarzenia dla Cieciórski Akro Kids
REFRESH-INTERVAL;VALUE=DURATION:PT1H
X-Robots-Tag:noindex
X-PUBLISHED-TTL:PT1H
BEGIN:VTIMEZONE
TZID:UTC
BEGIN:STANDARD
TZOFFSETFROM:+0000
TZOFFSETTO:+0000
TZNAME:UTC
DTSTART:20250101T000000
END:STANDARD
END:VTIMEZONE
BEGIN:VEVENT
DTSTART;TZID=UTC:20260422T080000
DTEND;TZID=UTC:20260422T170000
DTSTAMP:20260422T113625
CREATED:20260422T082118Z
LAST-MODIFIED:20260422T082118Z
UID:3715-1776844800-1776877200@sad-khorana.212-132-127-123.plesk.page
SUMMARY:Nocowanki
DESCRIPTION:
URL:https://sad-khorana.212-132-127-123.plesk.page/event/nocowanki/
END:VEVENT
END:VCALENDAR